{"text_format":"2","workbook":"xlsx","n_sheets":1,"sheets":["Ершовское с.п красная зона"],"not_rendered":{"charts":0,"images":1,"macros":0,"external_links":1,"defined_names":1,"comments":0,"pivot_tables":0},"unopened":[],"bounds":{"document_bytes":16777216,"sheet_cells":100000,"run_cost":"one","rows_first":2000,"rows_last":500,"rows_between":2000,"halvings":0,"cell_chars":16384,"cell_head_chars":4096},"cells_cut":0,"cells_raw":0,"read":"whole","date_system":"1900"}

{"sheet":"Ершовское с.п красная зона","index":0,"n_rows":285,"n_cols":9,"rows_kept":285,"cut":false,"hidden":false,"merged":[[284,0,284,8],[2,1,2,6],[1,0,1,8],[0,7,0,8],[282,0,282,8],[283,0,283,8]]}
[{"$nulls":7},"ООО «Рузский РО»\n143500, Московская обл., г. Истра, \nул. Московская, д. 48, оф. 37\n8 (499) 110-27-53, +7 963 716-95-21,\ninfo@ruzskyro.ru\nruzskyro.ru"]
["Реестр должников по коммунальной услуге «Обращение с ТКО»  с.п Ершовское   "]
["Номер лицевого счета по обращению с ТКО","Адрес",{"$nulls":5},"Исполнитель","Долг на 01.07.2021"]
[50004306374,143180,"г.о. Одинцовский","Аксиньинский с/о","Мозжинка пос.","2007-390","0","ООО \"Рузский РО\"",{"$f":"VLOOKUP(A4:A279,'[1]Универсальная выгрузка'!$B$96:$T$22204,19,0)","v":13786.43}]
[50008110372,143031,"г.о. Одинцовский","Аксиньино с.","село","35","1","ООО \"Рузский РО\"",{"$f":"VLOOKUP(A5:A288,'[1]Универсальная выгрузка'!$B$96:$T$22204,19,0)","v":6958.51}]
[50008111129,143031,"г.о. Одинцовский","Аксиньино с.","село","18","0","ООО \"Рузский РО\"",{"$f":"VLOOKUP(A6:A290,'[1]Универсальная выгрузка'!$B$96:$T$22204,19,0)","v":2997.5}]
[50008112570,143031,"г.о. Одинцовский","Аксиньино с.","село","26","0","ООО \"Рузский РО\"",{"$f":"VLOOKUP(A7:A291,'[1]Универсальная выгрузка'!$B$96:$T$22204,19,0)","v":4303.67}]
[50008114144,143031,"г.о. Одинцовский","Аксиньино с.","село","98","0","ООО \"Рузский РО\"",{"$f":"VLOOKUP(A8:A292,'[1]Универсальная выгрузка'!$B$96:$T$22204,19,0)","v":3227.49}]
[50008114440,143031,"г.о. Одинцовский","Аксиньино с.","село","32","0","ООО \"Рузский РО\"",{"$f":"VLOOKUP(A9:A294,'[1]Универсальная выгрузка'!$B$96:$T$22204,19,0)","v":9579.7199999999993}]
[50008117410,143031,"г.о. Одинцовский","Аксиньино с.","село","75","75/1","ООО \"Рузский РО\"",{"$f":"VLOOKUP(A10:A296,'[1]Универсальная выгрузка'!$B$96:$T$22204,19,0)","v":6958.51}]
[50008118156,143031,"г.о. Одинцовский","Аксиньино с.","село","26","0","ООО \"Рузский РО\"",{"$f":"VLOOKUP(A11:A297,'[1]Универсальная выгрузка'!$B$96:$T$22204,19,0)","v":4303.67}]
[50008118340,143031,"г.о. Одинцовский","Аксиньино с.","село","34А","0","ООО \"Рузский РО\"",{"$f":"VLOOKUP(A12:A298,'[1]Универсальная выгрузка'!$B$96:$T$22204,19,0)","v":11717.47}]
[50008118798,143031,"г.о. Одинцовский","Аксиньино с.","село","2","0","ООО \"Рузский РО\"",{"$f":"VLOOKUP(A13:A300,'[1]Универсальная выгрузка'!$B$96:$T$22204,19,0)","v":4286.97}]
[50008119255,143031,"г.о. Одинцовский","Аксиньино с.","село","62","0","ООО \"Рузский РО\"",{"$f":"VLOOKUP(A14:A301,'[1]Универсальная выгрузка'!$B$96:$T$22204,19,0)","v":2997.5}]
[50008127619,143031,"г.о. Одинцовский","Аксиньино с.","село","116","0","ООО \"Рузский РО\"",{"$f":"VLOOKUP(A15:A303,'[1]Универсальная выгрузка'!$B$96:$T$22204,19,0)","v":8544.6200000000008}]
[50008128154,143031,"г.о. Одинцовский","Аксиньино с.","село","106","0","ООО \"Рузский РО\"",{"$f":"VLOOKUP(A16:A304,'[1]Универсальная выгрузка'!$B$96:$T$22204,19,0)","v":16860.650000000001}]
[50008129260,143031,"г.о. Одинцовский","Аксиньино с.","село","4","0","ООО \"Рузский РО\"",{"$f":"VLOOKUP(A17:A305,'[1]Универсальная выгрузка'!$B$96:$T$22204,19,0)","v":2917.15}]
[50008132633,143031,"г.о. Одинцовский","Аксиньино с.","село","6 уч.","0","ООО \"Рузский РО\"",{"$f":"VLOOKUP(A18:A308,'[1]Универсальная выгрузка'!$B$96:$T$22204,19,0)","v":6958.51}]
[50008132908,143031,"г.о. Одинцовский","Аксиньино с.","село","86","0","ООО \"Рузский РО\"",{"$f":"VLOOKUP(A19:A309,'[1]Универсальная выгрузка'!$B$96:$T$22204,19,0)","v":4335.84}]
[50008133186,143031,"г.о. Одинцовский","Аксиньино с.","село","16","0","ООО \"Рузский РО\"",{"$f":"VLOOKUP(A20:A310,'[1]Универсальная выгрузка'!$B$96:$T$22204,19,0)","v":2537.52}]
[50008136067,143031,"г.о. Одинцовский","Аксиньино с.","ГП-3","уч.116","0","ООО \"Рузский РО\"",{"$f":"VLOOKUP(A21:A313,'[1]Универсальная выгрузка'!$B$96:$T$22204,19,0)","v":13872.39}]
[50008136187,143031,"г.о. Одинцовский","Аксиньино с.","ГП-1","уч.21","0","ООО \"Рузский РО\"",{"$f":"VLOOKUP(A22:A314,'[1]Универсальная выгрузка'!$B$96:$T$22204,19,0)","v":13788.42}]
[50008140183,143031,"г.о. Одинцовский","Аксиньино с.","село","23","0","ООО \"Рузский РО\"",{"$f":"VLOOKUP(A23:A315,'[1]Универсальная выгрузка'!$B$96:$T$22204,19,0)","v":2767.51}]
[50008142293,143031,"г.о. Одинцовский","Аксиньино с.","село","66","0","ООО \"Рузский РО\"",{"$f":"VLOOKUP(A24:A318,'[1]Универсальная выгрузка'!$B$96:$T$22204,19,0)","v":5133.2}]
[50008148753,143031,"г.о. Одинцовский","Аксиньино с.","село","34","0","ООО \"Рузский РО\"",{"$f":"VLOOKUP(A25:A321,'[1]Универсальная выгрузка'!$B$96:$T$22204,19,0)","v":2529.89}]
[50008151629,143031,"г.о. Одинцовский","Аксиньино с.","село","3","0","ООО \"Рузский РО\"",{"$f":"VLOOKUP(A26:A324,'[1]Универсальная выгрузка'!$B$96:$T$22204,19,0)","v":3027.49}]
[50008152414,143031,"г.о. Одинцовский","Аксиньино с.","село","58А","0","ООО \"Рузский РО\"",{"$f":"VLOOKUP(A27:A326,'[1]Универсальная выгрузка'!$B$96:$T$22204,19,0)","v":2887.47}]
[50008154757,143031,"г.о. Одинцовский","Аксиньино с.","село","42","0","ООО \"Рузский РО\"",{"$f":"VLOOKUP(A28:A327,'[1]Универсальная выгрузка'!$B$96:$T$22204,19,0)","v":4084.75}]
[50008157483,143031,"г.о. Одинцовский","Аксиньино с.","село","29","0","ООО \"Рузский РО\"",{"$f":"VLOOKUP(A29:A328,'[1]Универсальная выгрузка'!$B$96:$T$22204,19,0)","v":3522.25}]
[50008158656,143031,"г.о. Одинцовский","Аксиньино с.","село","3","0","ООО \"Рузский РО\"",{"$f":"VLOOKUP(A30:A329,'[1]Универсальная выгрузка'!$B$96:$T$22204,19,0)","v":6958.51}]
[50008159321,143031,"г.о. Одинцовский","Аксиньино с.","село","81Б","0","ООО \"Рузский РО\"",{"$f":"VLOOKUP(A31:A330,'[1]Универсальная выгрузка'!$B$96:$T$22204,19,0)","v":9062.17}]
[50008163889,143031,"г.о. Одинцовский","Аксиньино с.","село","104","А","ООО \"Рузский РО\"",{"$f":"VLOOKUP(A32:A332,'[1]Универсальная выгрузка'!$B$96:$T$22204,19,0)","v":14377.18}]
[50008167040,143031,"г.о. Одинцовский","Аксиньино с.","село","88А","0","ООО \"Рузский РО\"",{"$f":"VLOOKUP(A33:A333,'[1]Универсальная выгрузка'!$B$96:$T$22204,19,0)","v":2851.96}]
[50008170580,143031,"г.о. Одинцовский","Аксиньино с.","село","41А","0","ООО \"Рузский РО\"",{"$f":"VLOOKUP(A34:A335,'[1]Универсальная выгрузка'!$B$96:$T$22204,19,0)","v":2624.63}]
[50008170710,143031,"г.о. Одинцовский","Аксиньино с.","село","52/2","0","ООО \"Рузский РО\"",{"$f":"VLOOKUP(A35:A336,'[1]Универсальная выгрузка'!$B$96:$T$22204,19,0)","v":1280.45}]
[50008171946,143031,"г.о. Одинцовский","Аксиньино с.","село","48","0","ООО \"Рузский РО\"",{"$f":"VLOOKUP(A36:A338,'[1]Универсальная выгрузка'!$B$96:$T$22204,19,0)","v":6369.12}]
[50008174880,143031,"г.о. Одинцовский","Аксиньино с.","село","87","0","ООО \"Рузский РО\"",{"$f":"VLOOKUP(A37:A340,'[1]Универсальная выгрузка'!$B$96:$T$22204,19,0)","v":3680.16}]
[50008193280,143031,"г.о. Одинцовский","Аксиньино с.","село","38А","0","ООО \"Рузский РО\"",{"$f":"VLOOKUP(A38:A347,'[1]Универсальная выгрузка'!$B$96:$T$22204,19,0)","v":3968.47}]
[50008196820,143031,"г.о. Одинцовский","Аксиньино с.","село","51Б","0","ООО \"Рузский РО\"",{"$f":"VLOOKUP(A39:A348,'[1]Универсальная выгрузка'!$B$96:$T$22204,19,0)","v":2997.5}]
[50008200354,143031,"г.о. Одинцовский","Аксиньино с.","село","42А","0","ООО \"Рузский РО\"",{"$f":"VLOOKUP(A40:A349,'[1]Универсальная выгрузка'!$B$96:$T$22204,19,0)","v":4696.83}]
[50008200851,143031,"г.о. Одинцовский","Аксиньино с.","село","78","0","ООО \"Рузский РО\"",{"$f":"VLOOKUP(A41:A350,'[1]Универсальная выгрузка'!$B$96:$T$22204,19,0)","v":2897.79}]
[50008200925,143031,"г.о. Одинцовский","Аксиньино с.","село","61","0","ООО \"Рузский РО\"",{"$f":"VLOOKUP(A42:A351,'[1]Универсальная выгрузка'!$B$96:$T$22204,19,0)","v":6958.51}]
[50008201012,143031,"г.о. Одинцовский","Аксиньино с.","село","114","0","ООО \"Рузский РО\"",{"$f":"VLOOKUP(A43:A352,'[1]Универсальная выгрузка'!$B$96:$T$22204,19,0)","v":4183.75}]
[50008204359,143031,"г.о. Одинцовский","Аксиньино с.","село","23","0","ООО \"Рузский РО\"",{"$f":"VLOOKUP(A44:A356,'[1]Универсальная выгрузка'!$B$96:$T$22204,19,0)","v":6958.51}]
[50008204623,143031,"г.о. Одинцовский","Аксиньино с.","село","51","0","ООО \"Рузский РО\"",{"$f":"VLOOKUP(A45:A357,'[1]Универсальная выгрузка'!$B$96:$T$22204,19,0)","v":5117.3100000000004}]
[50008207818,143031,"г.о. Одинцовский","Аксиньино с.","село","68Б","Б","ООО \"Рузский РО\"",{"$f":"VLOOKUP(A46:A358,'[1]Универсальная выгрузка'!$B$96:$T$22204,19,0)","v":10396.58}]
[50008209029,143031,"г.о. Одинцовский","Аксиньино с.","село","18","0","ООО \"Рузский РО\"",{"$f":"VLOOKUP(A47:A359,'[1]Универсальная выгрузка'!$B$96:$T$22204,19,0)","v":5856.73}]
[50008209540,143031,"г.о. Одинцовский","Аксиньино с.","село","13","А","ООО \"Рузский РО\"",{"$f":"VLOOKUP(A48:A360,'[1]Универсальная выгрузка'!$B$96:$T$22204,19,0)","v":6958.51}]
[50008211282,143031,"г.о. Одинцовский","Аксиньино с.","село","102","0","ООО \"Рузский РО\"",{"$f":"VLOOKUP(A49:A361,'[1]Универсальная выгрузка'!$B$96:$T$22204,19,0)","v":3687.47}]
[50008212247,143031,"г.о. Одинцовский","Аксиньино с.","село","14","3","ООО \"Рузский РО\"",{"$f":"VLOOKUP(A50:A362,'[1]Универсальная выгрузка'!$B$96:$T$22204,19,0)","v":6958.51}]
[50008217340,143031,"г.о. Одинцовский","Аксиньино с.","село","22","0","ООО \"Рузский РО\"",{"$f":"VLOOKUP(A51:A365,'[1]Универсальная выгрузка'!$B$96:$T$22204,19,0)","v":6958.51}]
[50008218506,143031,"г.о. Одинцовский","Аксиньино с.","село","19","0","ООО \"Рузский РО\"",{"$f":"VLOOKUP(A52:A366,'[1]Универсальная выгрузка'!$B$96:$T$22204,19,0)","v":4574.22}]
[50008223111,143031,"г.о. Одинцовский","Аксиньино с.","село","2","0","ООО \"Рузский РО\"",{"$f":"VLOOKUP(A53:A368,'[1]Универсальная выгрузка'!$B$96:$T$22204,19,0)","v":2623.8}]
[50008224620,143031,"г.о. Одинцовский","Аксиньино с.","село","102","0","ООО \"Рузский РО\"",{"$f":"VLOOKUP(A54:A369,'[1]Универсальная выгрузка'!$B$96:$T$22204,19,0)","v":3932.75}]
[50008224820,143031,"г.о. Одинцовский","Аксиньино с.","село","20","0","ООО \"Рузский РО\"",{"$f":"VLOOKUP(A55:A370,'[1]Универсальная выгрузка'!$B$96:$T$22204,19,0)","v":3416.29}]
[50008225408,143031,"г.о. Одинцовский","Аксиньино с.","село","5А","0","ООО \"Рузский РО\"",{"$f":"VLOOKUP(A56:A372,'[1]Универсальная выгрузка'!$B$96:$T$22204,19,0)","v":13685.69}]
[50008230694,143031,"г.о. Одинцовский","Аксиньино с.","село","97","97а","ООО \"Рузский РО\"",{"$f":"VLOOKUP(A57:A373,'[1]Универсальная выгрузка'!$B$96:$T$22204,19,0)","v":2537.52}]
[50008231271,143031,"г.о. Одинцовский","Аксиньино с.","село","68","0","ООО \"Рузский РО\"",{"$f":"VLOOKUP(A58:A374,'[1]Универсальная выгрузка'!$B$96:$T$22204,19,0)","v":1858.91}]
[50008238950,143031,"г.о. Одинцовский","Аксиньино с.","село","14","0","ООО \"Рузский РО\"",{"$f":"VLOOKUP(A59:A378,'[1]Универсальная выгрузка'!$B$96:$T$22204,19,0)","v":3457.28}]
[50008239104,143031,"г.о. Одинцовский","Аксиньино с.","село","33Б","0","ООО \"Рузский РО\"",{"$f":"VLOOKUP(A60:A379,'[1]Универсальная выгрузка'!$B$96:$T$22204,19,0)","v":8027.07}]
[50008239182,143031,"г.о. Одинцовский","Аксиньино с.","село","90,90А","0","ООО \"Рузский РО\"",{"$f":"VLOOKUP(A61:A380,'[1]Универсальная выгрузка'!$B$96:$T$22204,19,0)","v":2530.52}]
[50008239312,143031,"г.о. Одинцовский","Аксиньино с.","село","8А","0","ООО \"Рузский РО\"",{"$f":"VLOOKUP(A62:A381,'[1]Универсальная выгрузка'!$B$96:$T$22204,19,0)","v":6958.51}]
[50008241449,143031,"г.о. Одинцовский","Аксиньино с.","село","30","0","ООО \"Рузский РО\"",{"$f":"VLOOKUP(A63:A383,'[1]Универсальная выгрузка'!$B$96:$T$22204,19,0)","v":2633.59}]
[50008247190,143031,"г.о. Одинцовский","Аксиньино с.","село","49","0","ООО \"Рузский РО\"",{"$f":"VLOOKUP(A64:A384,'[1]Универсальная выгрузка'!$B$96:$T$22204,19,0)","v":3520.08}]
[50008247345,143031,"г.о. Одинцовский","Аксиньино с.","село","15","0","ООО \"Рузский РО\"",{"$f":"VLOOKUP(A65:A385,'[1]Универсальная выгрузка'!$B$96:$T$22204,19,0)","v":6958.51}]
[50008247909,143031,"г.о. Одинцовский","Аксиньино с.","село","23","А","ООО \"Рузский РО\"",{"$f":"VLOOKUP(A66:A386,'[1]Универсальная выгрузка'!$B$96:$T$22204,19,0)","v":5379.18}]
[50008248349,143031,"г.о. Одинцовский","Аксиньино с.","село","92","0","ООО \"Рузский РО\"",{"$f":"VLOOKUP(A67:A387,'[1]Универсальная выгрузка'!$B$96:$T$22204,19,0)","v":6958.51}]
[50008248677,143031,"г.о. Одинцовский","Аксиньино с.","село","уч.40А","0","ООО \"Рузский РО\"",{"$f":"VLOOKUP(A68:A388,'[1]Универсальная выгрузка'!$B$96:$T$22204,19,0)","v":8528.4}]
[50008249060,143031,"г.о. Одинцовский","Аксиньино с.","село","44А","0","ООО \"Рузский РО\"",{"$f":"VLOOKUP(A69:A389,'[1]Универсальная выгрузка'!$B$96:$T$22204,19,0)","v":16843.73}]
[50008254078,143031,"г.о. Одинцовский","Аксиньино с.","село","16","0","ООО \"Рузский РО\"",{"$f":"VLOOKUP(A70:A390,'[1]Универсальная выгрузка'!$B$96:$T$22204,19,0)","v":3219.86}]
[50008254543,143031,"г.о. Одинцовский","Аксиньино с.","село","93","0","ООО \"Рузский РО\"",{"$f":"VLOOKUP(A71:A391,'[1]Универсальная выгрузка'!$B$96:$T$22204,19,0)","v":2938.36}]
[50008255829,143031,"г.о. Одинцовский","Аксиньино с.","село","65","0","ООО \"Рузский РО\"",{"$f":"VLOOKUP(A72:A392,'[1]Универсальная выгрузка'!$B$96:$T$22204,19,0)","v":2977.21}]
[50008261389,143031,"г.о. Одинцовский","Аксиньино с.","село","39/1","0","ООО \"Рузский РО\"",{"$f":"VLOOKUP(A73:A393,'[1]Универсальная выгрузка'!$B$96:$T$22204,19,0)","v":15277.81}]
[50008261830,143031,"г.о. Одинцовский","Аксиньино с.","село","43А","0","ООО \"Рузский РО\"",{"$f":"VLOOKUP(A74:A394,'[1]Универсальная выгрузка'!$B$96:$T$22204,19,0)","v":13279}]
[50008276956,143031,"г.о. Одинцовский","Аксиньино с.","село","33","0","ООО \"Рузский РО\"",{"$f":"VLOOKUP(A75:A395,'[1]Универсальная выгрузка'!$B$96:$T$22204,19,0)","v":2507.5300000000002}]
[50008277981,143031,"г.о. Одинцовский","Аксиньино с.","село","14","0","ООО \"Рузский РО\"",{"$f":"VLOOKUP(A76:A396,'[1]Универсальная выгрузка'!$B$96:$T$22204,19,0)","v":6578.78}]
[50008279202,143031,"г.о. Одинцовский","Аксиньино с.","село","15","0","ООО \"Рузский РО\"",{"$f":"VLOOKUP(A77:A397,'[1]Универсальная выгрузка'!$B$96:$T$22204,19,0)","v":3219.86}]
[50008294521,143031,"г.о. Одинцовский","Аксиньино с.","село","104/2","0","ООО \"Рузский РО\"",{"$f":"VLOOKUP(A78:A404,'[1]Универсальная выгрузка'!$B$96:$T$22204,19,0)","v":11793.51}]
[50008299978,143031,"г.о. Одинцовский","Аксиньино с.","село","115","0","ООО \"Рузский РО\"",{"$f":"VLOOKUP(A79:A405,'[1]Универсальная выгрузка'!$B$96:$T$22204,19,0)","v":11015}]
[50008300302,143031,"г.о. Одинцовский","Аксиньино с.","село","0","ду27/2","ООО \"Рузский РО\"",{"$f":"VLOOKUP(A80:A406,'[1]Универсальная выгрузка'!$B$96:$T$22204,19,0)","v":17492.27}]
[50008300380,143031,"г.о. Одинцовский","Аксиньино с.","село","16","0","ООО \"Рузский РО\"",{"$f":"VLOOKUP(A81:A407,'[1]Универсальная выгрузка'!$B$96:$T$22204,19,0)","v":3797.93}]
[50008307474,143031,"г.о. Одинцовский","Аксиньино с.","село","12","0","ООО \"Рузский РО\"",{"$f":"VLOOKUP(A82:A408,'[1]Универсальная выгрузка'!$B$96:$T$22204,19,0)","v":2328.9}]
[50008323444,143031,"г.о. Одинцовский","Аксиньино с.","село","46","0","ООО \"Рузский РО\"",{"$f":"VLOOKUP(A83:A410,'[1]Универсальная выгрузка'!$B$96:$T$22204,19,0)","v":2750.33}]
[50008323596,143031,"г.о. Одинцовский","Аксиньино с.","село","55/1","0","ООО \"Рузский РО\"",{"$f":"VLOOKUP(A84:A411,'[1]Универсальная выгрузка'!$B$96:$T$22204,19,0)","v":8019.86}]
[50008325201,143031,"г.о. Одинцовский","Аксиньино с.","село","13","0","ООО \"Рузский РО\"",{"$f":"VLOOKUP(A85:A413,'[1]Универсальная выгрузка'!$B$96:$T$22204,19,0)","v":6713.66}]
[50008330755,143031,"г.о. Одинцовский","Аксиньино с.","село","55","0","ООО \"Рузский РО\"",{"$f":"VLOOKUP(A86:A414,'[1]Универсальная выгрузка'!$B$96:$T$22204,19,0)","v":2767.51}]
[50008330836,143031,"г.о. Одинцовский","Аксиньино с.","село","10","0","ООО \"Рузский РО\"",{"$f":"VLOOKUP(A87:A415,'[1]Универсальная выгрузка'!$B$96:$T$22204,19,0)","v":4844.24}]
[50008338673,143031,"г.о. Одинцовский","Аксиньино с.","село","42","0","ООО \"Рузский РО\"",{"$f":"VLOOKUP(A88:A417,'[1]Универсальная выгрузка'!$B$96:$T$22204,19,0)","v":3416.29}]
[50008338779,143031,"г.о. Одинцовский","Аксиньино с.","село","87","0","ООО \"Рузский РО\"",{"$f":"VLOOKUP(A89:A418,'[1]Универсальная выгрузка'!$B$96:$T$22204,19,0)","v":3077.82}]
[50008339331,143031,"г.о. Одинцовский","Аксиньино с.","село","14А","0","ООО \"Рузский РО\"",{"$f":"VLOOKUP(A90:A419,'[1]Универсальная выгрузка'!$B$96:$T$22204,19,0)","v":6958.51}]
[50008340471,143031,"г.о. Одинцовский","Аксиньино с.","село","69","0","ООО \"Рузский РО\"",{"$f":"VLOOKUP(A91:A420,'[1]Универсальная выгрузка'!$B$96:$T$22204,19,0)","v":2537.52}]
[50004170821,143057,"г.о. Одинцовский","Андреевское с.","село","38","0","ООО \"Рузский РО\"",{"$f":"VLOOKUP(A92:A424,'[1]Универсальная выгрузка'!$B$96:$T$22204,19,0)","v":6279.79}]
[50004174590,143057,"г.о. Одинцовский","Андреевское с.","село","43","к.187","ООО \"Рузский РО\"",{"$f":"VLOOKUP(A93:A425,'[1]Универсальная выгрузка'!$B$96:$T$22204,19,0)","v":6958.51}]
[50004174640,143057,"г.о. Одинцовский","Андреевское с.","село","43","д.47","ООО \"Рузский РО\"",{"$f":"VLOOKUP(A94:A426,'[1]Универсальная выгрузка'!$B$96:$T$22204,19,0)","v":6958.51}]
[50004210520,143057,"г.о. Одинцовский","Андреевское с.","село","23","0","ООО \"Рузский РО\"",{"$f":"VLOOKUP(A95:A430,'[1]Универсальная выгрузка'!$B$96:$T$22204,19,0)","v":4419.93}]
[50004220416,143057,"г.о. Одинцовский","Андреевское с.","село","10А","д.10","ООО \"Рузский РО\"",{"$f":"VLOOKUP(A96:A432,'[1]Универсальная выгрузка'!$B$96:$T$22204,19,0)","v":6958.51}]
[50004224989,143057,"г.о. Одинцовский","Андреевское с.","село","43","0","ООО \"Рузский РО\"",{"$f":"VLOOKUP(A97:A433,'[1]Универсальная выгрузка'!$B$96:$T$22204,19,0)","v":3697.1}]
[50004253549,143057,"г.о. Одинцовский","Андреевское с.","село","12","А","ООО \"Рузский РО\"",{"$f":"VLOOKUP(A98:A436,'[1]Универсальная выгрузка'!$B$96:$T$22204,19,0)","v":6958.51}]
[50004293693,143057,"г.о. Одинцовский","Андреевское с.","село","43","к.1251","ООО \"Рузский РО\"",{"$f":"VLOOKUP(A99:A439,'[1]Универсальная выгрузка'!$B$96:$T$22204,19,0)","v":6958.51}]
[50004307089,143057,"г.о. Одинцовский","Андреевское с.","село","7","0","ООО \"Рузский РО\"",{"$f":"VLOOKUP(A100:A441,'[1]Универсальная выгрузка'!$B$96:$T$22204,19,0)","v":5099.8999999999996}]
[50004330024,143057,"г.о. Одинцовский","Андреевское с.","село","31","0","ООО \"Рузский РО\"",{"$f":"VLOOKUP(A101:A444,'[1]Универсальная выгрузка'!$B$96:$T$22204,19,0)","v":6529.82}]
[50004337020,143057,"г.о. Одинцовский","Андреевское с.","село","34","0","ООО \"Рузский РО\"",{"$f":"VLOOKUP(A102:A446,'[1]Универсальная выгрузка'!$B$96:$T$22204,19,0)","v":8440.01}]
[50004351930,143057,"г.о. Одинцовский","Андреевское с.","село","уч.6","0","ООО \"Рузский РО\"",{"$f":"VLOOKUP(A103:A447,'[1]Универсальная выгрузка'!$B$96:$T$22204,19,0)","v":2541.04}]
[50004357080,143057,"г.о. Одинцовский","Андреевское с.","село","20","0","ООО \"Рузский РО\"",{"$f":"VLOOKUP(A104:A448,'[1]Универсальная выгрузка'!$B$96:$T$22204,19,0)","v":2550.35}]
[50004358171,143057,"г.о. Одинцовский","Андреевское с.","село","33","0","ООО \"Рузский РО\"",{"$f":"VLOOKUP(A105:A451,'[1]Универсальная выгрузка'!$B$96:$T$22204,19,0)","v":6958.51}]
[50004359665,143057,"г.о. Одинцовский","Андреевское с.","село","5","0","ООО \"Рузский РО\"",{"$f":"VLOOKUP(A106:A452,'[1]Универсальная выгрузка'!$B$96:$T$22204,19,0)","v":3996.97}]
[50004360406,143057,"г.о. Одинцовский","Андреевское с.","село","43","к.273","ООО \"Рузский РО\"",{"$f":"VLOOKUP(A107:A453,'[1]Универсальная выгрузка'!$B$96:$T$22204,19,0)","v":6958.51}]
[50004365764,143057,"г.о. Одинцовский","Андреевское с.","село","27","0","ООО \"Рузский РО\"",{"$f":"VLOOKUP(A108:A457,'[1]Универсальная выгрузка'!$B$96:$T$22204,19,0)","v":3539.82}]
[50004389733,143057,"г.о. Одинцовский","Андреевское с.","село","8","0","ООО \"Рузский РО\"",{"$f":"VLOOKUP(A109:A459,'[1]Универсальная выгрузка'!$B$96:$T$22204,19,0)","v":2537.4}]
[50004175724,143055,"г.о. Одинцовский","Ивашково дер.","деревня","уч.12","0","ООО \"Рузский РО\"",{"$f":"VLOOKUP(A110:A461,'[1]Универсальная выгрузка'!$B$96:$T$22204,19,0)","v":17717.97}]
[50004177697,143055,"г.о. Одинцовский","Ивашково дер.","деревня","40","0","ООО \"Рузский РО\"",{"$f":"VLOOKUP(A111:A462,'[1]Универсальная выгрузка'!$B$96:$T$22204,19,0)","v":3416.29}]
[50004184648,143055,"г.о. Одинцовский","Ивашково дер.","деревня","9","0","ООО \"Рузский РО\"",{"$f":"VLOOKUP(A112:A463,'[1]Универсальная выгрузка'!$B$96:$T$22204,19,0)","v":6958.51}]
[50004213465,143055,"г.о. Одинцовский","Ивашково дер.","деревня","уч.46","0","ООО \"Рузский РО\"",{"$f":"VLOOKUP(A113:A464,'[1]Универсальная выгрузка'!$B$96:$T$22204,19,0)","v":2807.77}]
[50004227980,143055,"г.о. Одинцовский","Ивашково дер.","деревня","6","0","ООО \"Рузский РО\"",{"$f":"VLOOKUP(A114:A465,'[1]Универсальная выгрузка'!$B$96:$T$22204,19,0)","v":6958.51}]
[50004232605,143055,"г.о. Одинцовский","Ивашково дер.","деревня","7","0","ООО \"Рузский РО\"",{"$f":"VLOOKUP(A115:A466,'[1]Универсальная выгрузка'!$B$96:$T$22204,19,0)","v":6958.51}]
[50004234419,143055,"г.о. Одинцовский","Ивашково дер.","деревня","28","0","ООО \"Рузский РО\"",{"$f":"VLOOKUP(A116:A467,'[1]Универсальная выгрузка'!$B$96:$T$22204,19,0)","v":6958.51}]
[50004240525,143055,"г.о. Одинцовский","Ивашково дер.","деревня","32","0","ООО \"Рузский РО\"",{"$f":"VLOOKUP(A117:A468,'[1]Универсальная выгрузка'!$B$96:$T$22204,19,0)","v":6958.51}]
[50004268640,143055,"г.о. Одинцовский","Ивашково дер.","деревня","8","0","ООО \"Рузский РО\"",{"$f":"VLOOKUP(A118:A469,'[1]Универсальная выгрузка'!$B$96:$T$22204,19,0)","v":6958.51}]
[50004278769,143055,"г.о. Одинцовский","Ивашково дер.","деревня","20","0","ООО \"Рузский РО\"",{"$f":"VLOOKUP(A119:A470,'[1]Универсальная выгрузка'!$B$96:$T$22204,19,0)","v":6958.51}]
[50004290847,143055,"г.о. Одинцовский","Ивашково дер.","деревня","уч.10","0","ООО \"Рузский РО\"",{"$f":"VLOOKUP(A120:A471,'[1]Универсальная выгрузка'!$B$96:$T$22204,19,0)","v":10684.04}]
[50004293245,143055,"г.о. Одинцовский","Ивашково дер.","деревня","38","0","ООО \"Рузский РО\"",{"$f":"VLOOKUP(A121:A472,'[1]Универсальная выгрузка'!$B$96:$T$22204,19,0)","v":6958.51}]
[50004305885,143055,"г.о. Одинцовский","Ивашково дер.","деревня","уч.7","0","ООО \"Рузский РО\"",{"$f":"VLOOKUP(A122:A473,'[1]Универсальная выгрузка'!$B$96:$T$22204,19,0)","v":8022.87}]
[50004313727,143055,"г.о. Одинцовский","Ивашково дер.","деревня","64","0","ООО \"Рузский РО\"",{"$f":"VLOOKUP(A123:A474,'[1]Универсальная выгрузка'!$B$96:$T$22204,19,0)","v":18540.18}]
[50004328804,143055,"г.о. Одинцовский","Ивашково дер.","деревня","27","1","ООО \"Рузский РО\"",{"$f":"VLOOKUP(A124:A475,'[1]Универсальная выгрузка'!$B$96:$T$22204,19,0)","v":6958.51}]
[50004337340,143055,"г.о. Одинцовский","Ивашково дер.","деревня","28","0","ООО \"Рузский РО\"",{"$f":"VLOOKUP(A125:A476,'[1]Универсальная выгрузка'!$B$96:$T$22204,19,0)","v":6958.51}]
[50004345750,143055,"г.о. Одинцовский","Ивашково дер.","деревня","20","0","ООО \"Рузский РО\"",{"$f":"VLOOKUP(A126:A477,'[1]Универсальная выгрузка'!$B$96:$T$22204,19,0)","v":6958.51}]
[50004352902,143055,"г.о. Одинцовский","Ивашково дер.","деревня","4","0","ООО \"Рузский РО\"",{"$f":"VLOOKUP(A127:A478,'[1]Универсальная выгрузка'!$B$96:$T$22204,19,0)","v":6958.51}]
[50004353367,143055,"г.о. Одинцовский","Ивашково дер.","деревня","22","0","ООО \"Рузский РО\"",{"$f":"VLOOKUP(A128:A479,'[1]Универсальная выгрузка'!$B$96:$T$22204,19,0)","v":5079.7}]
[50004360491,143055,"г.о. Одинцовский","Ивашково дер.","деревня","1","0","ООО \"Рузский РО\"",{"$f":"VLOOKUP(A129:A480,'[1]Универсальная выгрузка'!$B$96:$T$22204,19,0)","v":6958.51}]
[50004361022,143055,"г.о. Одинцовский","Ивашково дер.","деревня","35Б","0","ООО \"Рузский РО\"",{"$f":"VLOOKUP(A130:A481,'[1]Универсальная выгрузка'!$B$96:$T$22204,19,0)","v":47840.85}]
[50004363252,143055,"г.о. Одинцовский","Ивашково дер.","деревня","35Б","0","ООО \"Рузский РО\"",{"$f":"VLOOKUP(A131:A482,'[1]Универсальная выгрузка'!$B$96:$T$22204,19,0)","v":47840.85}]
[50004371969,143055,"г.о. Одинцовский","Ивашково дер.","деревня","5","0","ООО \"Рузский РО\"",{"$f":"VLOOKUP(A132:A483,'[1]Универсальная выгрузка'!$B$96:$T$22204,19,0)","v":6958.51}]
[50004382752,143055,"г.о. Одинцовский","Ивашково дер.","деревня","10","0","ООО \"Рузский РО\"",{"$f":"VLOOKUP(A133:A484,'[1]Универсальная выгрузка'!$B$96:$T$22204,19,0)","v":3457.2}]
[50004383227,143055,"г.о. Одинцовский","Ивашково дер.","деревня","35","0","ООО \"Рузский РО\"",{"$f":"VLOOKUP(A134:A485,'[1]Универсальная выгрузка'!$B$96:$T$22204,19,0)","v":6958.51}]
[50004203932,143057,"г.о. Одинцовский","Иглово дер.","деревня","уч.19","0","ООО \"Рузский РО\"",{"$f":"VLOOKUP(A135:A486,'[1]Универсальная выгрузка'!$B$96:$T$22204,19,0)","v":9160.9599999999991}]
[50004204365,143057,"г.о. Одинцовский","Иглово дер.","ГП","уч.4","0","ООО \"Рузский РО\"",{"$f":"VLOOKUP(A136:A487,'[1]Универсальная выгрузка'!$B$96:$T$22204,19,0)","v":3235.52}]
[50004228119,143057,"г.о. Одинцовский","Иглово дер.","деревня","8","0","ООО \"Рузский РО\"",{"$f":"VLOOKUP(A137:A488,'[1]Универсальная выгрузка'!$B$96:$T$22204,19,0)","v":6958.51}]
[50004234850,143057,"г.о. Одинцовский","Иглово дер.","деревня","7","0","ООО \"Рузский РО\"",{"$f":"VLOOKUP(A138:A489,'[1]Универсальная выгрузка'!$B$96:$T$22204,19,0)","v":6958.51}]
[50004241590,143057,"г.о. Одинцовский","Иглово дер.","деревня","1","уч.15","ООО \"Рузский РО\"",{"$f":"VLOOKUP(A139:A490,'[1]Универсальная выгрузка'!$B$96:$T$22204,19,0)","v":6958.51}]
[50004241688,143057,"г.о. Одинцовский","Иглово дер.","деревня","9","0","ООО \"Рузский РО\"",{"$f":"VLOOKUP(A140:A491,'[1]Универсальная выгрузка'!$B$96:$T$22204,19,0)","v":6958.51}]
[50004248620,143057,"г.о. Одинцовский","Иглово дер.","деревня","18","0","ООО \"Рузский РО\"",{"$f":"VLOOKUP(A141:A492,'[1]Универсальная выгрузка'!$B$96:$T$22204,19,0)","v":6958.51}]
[50004269933,143057,"г.о. Одинцовский","Иглово дер.","деревня","22","0","ООО \"Рузский РО\"",{"$f":"VLOOKUP(A142:A493,'[1]Универсальная выгрузка'!$B$96:$T$22204,19,0)","v":6958.51}]
[50004291752,143057,"г.о. Одинцовский","Иглово дер.","деревня","2","0","ООО \"Рузский РО\"",{"$f":"VLOOKUP(A143:A494,'[1]Универсальная выгрузка'!$B$96:$T$22204,19,0)","v":6958.51}]
[50004299085,143057,"г.о. Одинцовский","Иглово дер.","деревня","3","0","ООО \"Рузский РО\"",{"$f":"VLOOKUP(A144:A495,'[1]Универсальная выгрузка'!$B$96:$T$22204,19,0)","v":6958.51}]
[50004301400,143057,"г.о. Одинцовский","Иглово дер.","деревня","6","0","ООО \"Рузский РО\"",{"$f":"VLOOKUP(A145:A496,'[1]Универсальная выгрузка'!$B$96:$T$22204,19,0)","v":4147.45}]
[50004313269,143057,"г.о. Одинцовский","Иглово дер.","деревня","уч.18","0","ООО \"Рузский РО\"",{"$f":"VLOOKUP(A146:A497,'[1]Универсальная выгрузка'!$B$96:$T$22204,19,0)","v":14521.92}]
[50004314400,143057,"г.о. Одинцовский","Иглово дер.","деревня","20","0","ООО \"Рузский РО\"",{"$f":"VLOOKUP(A147:A498,'[1]Универсальная выгрузка'!$B$96:$T$22204,19,0)","v":6958.51}]
[50004345165,143057,"г.о. Одинцовский","Иглово дер.","деревня","12","0","ООО \"Рузский РО\"",{"$f":"VLOOKUP(A148:A499,'[1]Универсальная выгрузка'!$B$96:$T$22204,19,0)","v":6958.51}]
[50004353039,143057,"г.о. Одинцовский","Иглово дер.","деревня","2А","0","ООО \"Рузский РО\"",{"$f":"VLOOKUP(A149:A500,'[1]Универсальная выгрузка'!$B$96:$T$22204,19,0)","v":5553.68}]
[50004357266,143057,"г.о. Одинцовский","Иглово дер.","деревня","10","0","ООО \"Рузский РО\"",{"$f":"VLOOKUP(A150:A501,'[1]Универсальная выгрузка'!$B$96:$T$22204,19,0)","v":6002.94}]
[50004358848,143057,"г.о. Одинцовский","Иглово дер.","деревня","15","0","ООО \"Рузский РО\"",{"$f":"VLOOKUP(A151:A502,'[1]Универсальная выгрузка'!$B$96:$T$22204,19,0)","v":3031.5}]
[50004359792,143057,"г.о. Одинцовский","Иглово дер.","деревня","19","0","ООО \"Рузский РО\"",{"$f":"VLOOKUP(A152:A503,'[1]Универсальная выгрузка'!$B$96:$T$22204,19,0)","v":6958.51}]
[50004368236,143057,"г.о. Одинцовский","Иглово дер.","деревня","20","0","ООО \"Рузский РО\"",{"$f":"VLOOKUP(A153:A504,'[1]Универсальная выгрузка'!$B$96:$T$22204,19,0)","v":6958.51}]
[50004373116,143057,"г.о. Одинцовский","Иглово дер.","деревня","10","0","ООО \"Рузский РО\"",{"$f":"VLOOKUP(A154:A505,'[1]Универсальная выгрузка'!$B$96:$T$22204,19,0)","v":3343.43}]
[50004376011,143057,"г.о. Одинцовский","Иглово дер.","деревня","13","0","ООО \"Рузский РО\"",{"$f":"VLOOKUP(A155:A506,'[1]Универсальная выгрузка'!$B$96:$T$22204,19,0)","v":855.87}]
[50004379936,143057,"г.о. Одинцовский","Иглово дер.","деревня","1","0","ООО \"Рузский РО\"",{"$f":"VLOOKUP(A156:A507,'[1]Универсальная выгрузка'!$B$96:$T$22204,19,0)","v":6958.51}]
[50004315241,143031,"г.о. Одинцовский","Ларюшино дер.","деревня","13","0","ООО \"Рузский РО\"",{"$f":"VLOOKUP(A157:A508,'[1]Универсальная выгрузка'!$B$96:$T$22204,19,0)","v":6981.99}]
[50008102149,143031,"г.о. Одинцовский","Ларюшино дер.","деревня","38","0","ООО \"Рузский РО\"",{"$f":"VLOOKUP(A158:A509,'[1]Универсальная выгрузка'!$B$96:$T$22204,19,0)","v":6958.51}]
[50008103262,143031,"г.о. Одинцовский","Ларюшино дер.","деревня","25","0","ООО \"Рузский РО\"",{"$f":"VLOOKUP(A159:A510,'[1]Универсальная выгрузка'!$B$96:$T$22204,19,0)","v":2760.74}]
[50008104026,143031,"г.о. Одинцовский","Ларюшино дер.","деревня","уч.26","0","ООО \"Рузский РО\"",{"$f":"VLOOKUP(A160:A511,'[1]Универсальная выгрузка'!$B$96:$T$22204,19,0)","v":2497.5}]
[50008114112,143031,"г.о. Одинцовский","Ларюшино дер.","деревня","1","0","ООО \"Рузский РО\"",{"$f":"VLOOKUP(A161:A512,'[1]Универсальная выгрузка'!$B$96:$T$22204,19,0)","v":6958.51}]
[50008125072,143031,"г.о. Одинцовский","Ларюшино дер.","деревня","4","0","ООО \"Рузский РО\"",{"$f":"VLOOKUP(A162:A513,'[1]Универсальная выгрузка'!$B$96:$T$22204,19,0)","v":6958.51}]
[50008157162,143031,"г.о. Одинцовский","Ларюшино дер.","деревня","21","0","ООО \"Рузский РО\"",{"$f":"VLOOKUP(A163:A514,'[1]Универсальная выгрузка'!$B$96:$T$22204,19,0)","v":2530.16}]
[50008164434,143031,"г.о. Одинцовский","Ларюшино дер.","деревня","16","0","ООО \"Рузский РО\"",{"$f":"VLOOKUP(A164:A515,'[1]Универсальная выгрузка'!$B$96:$T$22204,19,0)","v":6958.51}]
[50008170290,143031,"г.о. Одинцовский","Ларюшино дер.","деревня","64","0","ООО \"Рузский РО\"",{"$f":"VLOOKUP(A165:A516,'[1]Универсальная выгрузка'!$B$96:$T$22204,19,0)","v":6958.51}]
[50008180549,143031,"г.о. Одинцовский","Ларюшино дер.","деревня","1","0","ООО \"Рузский РО\"",{"$f":"VLOOKUP(A166:A517,'[1]Универсальная выгрузка'!$B$96:$T$22204,19,0)","v":6958.51}]
[50008182507,143031,"г.о. Одинцовский","Ларюшино дер.","деревня","50","0","ООО \"Рузский РО\"",{"$f":"VLOOKUP(A167:A518,'[1]Универсальная выгрузка'!$B$96:$T$22204,19,0)","v":3717.58}]
[50008185434,143031,"г.о. Одинцовский","Ларюшино дер.","деревня","22","0","ООО \"Рузский РО\"",{"$f":"VLOOKUP(A168:A519,'[1]Универсальная выгрузка'!$B$96:$T$22204,19,0)","v":6958.51}]
[50008188869,143031,"г.о. Одинцовский","Ларюшино дер.","деревня","68","0","ООО \"Рузский РО\"",{"$f":"VLOOKUP(A169:A520,'[1]Универсальная выгрузка'!$B$96:$T$22204,19,0)","v":3041.28}]
[50008195961,143031,"г.о. Одинцовский","Ларюшино дер.","деревня","16","0","ООО \"Рузский РО\"",{"$f":"VLOOKUP(A170:A521,'[1]Универсальная выгрузка'!$B$96:$T$22204,19,0)","v":6958.51}]
[50008202859,143031,"г.о. Одинцовский","Ларюшино дер.","деревня","2Б-1","0","ООО \"Рузский РО\"",{"$f":"VLOOKUP(A171:A522,'[1]Универсальная выгрузка'!$B$96:$T$22204,19,0)","v":15842.21}]
[50008225052,143031,"г.о. Одинцовский","Ларюшино дер.","деревня","55","0","ООО \"Рузский РО\"",{"$f":"VLOOKUP(A172:A523,'[1]Универсальная выгрузка'!$B$96:$T$22204,19,0)","v":6958.51}]
[50008292771,143031,"г.о. Одинцовский","Ларюшино дер.","деревня","2","0","ООО \"Рузский РО\"",{"$f":"VLOOKUP(A173:A526,'[1]Универсальная выгрузка'!$B$96:$T$22204,19,0)","v":4141.5200000000004}]
[50008294169,143031,"г.о. Одинцовский","Ларюшино дер.","деревня","уч.3А","0","ООО \"Рузский РО\"",{"$f":"VLOOKUP(A174:A527,'[1]Универсальная выгрузка'!$B$96:$T$22204,19,0)","v":15332.47}]
[50008301698,143031,"г.о. Одинцовский","Ларюшино дер.","деревня","6","0","ООО \"Рузский РО\"",{"$f":"VLOOKUP(A175:A528,'[1]Универсальная выгрузка'!$B$96:$T$22204,19,0)","v":6958.51}]
[50008339349,143031,"г.о. Одинцовский","Ларюшино дер.","деревня","27-29","0","ООО \"Рузский РО\"",{"$f":"VLOOKUP(A176:A529,'[1]Универсальная выгрузка'!$B$96:$T$22204,19,0)","v":13935.86}]
[50004168597,143056,"г.о. Одинцовский","Новоалександровка дер.","деревня","5","0","ООО \"Рузский РО\"",{"$f":"VLOOKUP(A177:A530,'[1]Универсальная выгрузка'!$B$96:$T$22204,19,0)","v":6958.51}]
[50004176319,143056,"г.о. Одинцовский","Новоалександровка дер.","деревня","10","0","ООО \"Рузский РО\"",{"$f":"VLOOKUP(A178:A531,'[1]Универсальная выгрузка'!$B$96:$T$22204,19,0)","v":6958.51}]
[50004191606,143056,"г.о. Одинцовский","Новоалександровка дер.","деревня","16","0","ООО \"Рузский РО\"",{"$f":"VLOOKUP(A179:A532,'[1]Универсальная выгрузка'!$B$96:$T$22204,19,0)","v":6958.51}]
[50004191878,143056,"г.о. Одинцовский","Новоалександровка дер.","деревня","8","0","ООО \"Рузский РО\"",{"$f":"VLOOKUP(A180:A533,'[1]Универсальная выгрузка'!$B$96:$T$22204,19,0)","v":6958.51}]
[50004225118,143056,"г.о. Одинцовский","Новоалександровка дер.","деревня","2","0","ООО \"Рузский РО\"",{"$f":"VLOOKUP(A181:A534,'[1]Универсальная выгрузка'!$B$96:$T$22204,19,0)","v":6958.51}]
[50004249207,143056,"г.о. Одинцовский","Новоалександровка дер.","деревня","уч.9","0","ООО \"Рузский РО\"",{"$f":"VLOOKUP(A182:A535,'[1]Универсальная выгрузка'!$B$96:$T$22204,19,0)","v":3312.95}]
[50004253820,143056,"г.о. Одинцовский","Новоалександровка дер.","деревня","22","0","ООО \"Рузский РО\"",{"$f":"VLOOKUP(A183:A536,'[1]Универсальная выгрузка'!$B$96:$T$22204,19,0)","v":11717.47}]
[50004261860,143056,"г.о. Одинцовский","Новоалександровка дер.","деревня","9","0","ООО \"Рузский РО\"",{"$f":"VLOOKUP(A184:A537,'[1]Универсальная выгрузка'!$B$96:$T$22204,19,0)","v":4535.1899999999996}]
[50004267728,143056,"г.о. Одинцовский","Новоалександровка дер.","деревня","5","0","ООО \"Рузский РО\"",{"$f":"VLOOKUP(A185:A538,'[1]Универсальная выгрузка'!$B$96:$T$22204,19,0)","v":6958.51}]
[50004267911,143056,"г.о. Одинцовский","Новоалександровка дер.","деревня","5б","0","ООО \"Рузский РО\"",{"$f":"VLOOKUP(A186:A539,'[1]Универсальная выгрузка'!$B$96:$T$22204,19,0)","v":285.58999999999997}]
[50004276306,143056,"г.о. Одинцовский","Новоалександровка дер.","деревня","7","0","ООО \"Рузский РО\"",{"$f":"VLOOKUP(A187:A540,'[1]Универсальная выгрузка'!$B$96:$T$22204,19,0)","v":4730.3500000000004}]
[50004278663,143056,"г.о. Одинцовский","Новоалександровка дер.","деревня","8","0","ООО \"Рузский РО\"",{"$f":"VLOOKUP(A188:A541,'[1]Универсальная выгрузка'!$B$96:$T$22204,19,0)","v":6958.51}]
[50004278906,143056,"г.о. Одинцовский","Новоалександровка дер.","деревня","14","0","ООО \"Рузский РО\"",{"$f":"VLOOKUP(A189:A542,'[1]Универсальная выгрузка'!$B$96:$T$22204,19,0)","v":6958.51}]
[50004292121,143056,"г.о. Одинцовский","Новоалександровка дер.","деревня","9","0","ООО \"Рузский РО\"",{"$f":"VLOOKUP(A190:A543,'[1]Универсальная выгрузка'!$B$96:$T$22204,19,0)","v":6958.51}]
[50004328579,143056,"г.о. Одинцовский","Новоалександровка дер.","деревня","6","0","ООО \"Рузский РО\"",{"$f":"VLOOKUP(A191:A544,'[1]Универсальная выгрузка'!$B$96:$T$22204,19,0)","v":6958.51}]
[50004329533,143056,"г.о. Одинцовский","Новоалександровка дер.","деревня","14Б","0","ООО \"Рузский РО\"",{"$f":"VLOOKUP(A192:A545,'[1]Универсальная выгрузка'!$B$96:$T$22204,19,0)","v":12544.41}]
[50004338175,143056,"г.о. Одинцовский","Новоалександровка дер.","деревня","4","0","ООО \"Рузский РО\"",{"$f":"VLOOKUP(A193:A546,'[1]Универсальная выгрузка'!$B$96:$T$22204,19,0)","v":6958.51}]
[50004345366,143056,"г.о. Одинцовский","Новоалександровка дер.","деревня","15","0","ООО \"Рузский РО\"",{"$f":"VLOOKUP(A194:A547,'[1]Универсальная выгрузка'!$B$96:$T$22204,19,0)","v":6958.51}]
[50004349709,143056,"г.о. Одинцовский","Новоалександровка дер.","деревня","11","0","ООО \"Рузский РО\"",{"$f":"VLOOKUP(A195:A548,'[1]Универсальная выгрузка'!$B$96:$T$22204,19,0)","v":6958.51}]
[50004360533,143056,"г.о. Одинцовский","Новоалександровка дер.","деревня","уч.5/1","0","ООО \"Рузский РО\"",{"$f":"VLOOKUP(A196:A549,'[1]Универсальная выгрузка'!$B$96:$T$22204,19,0)","v":12174.57}]
[50004364400,143056,"г.о. Одинцовский","Новоалександровка дер.","деревня","17","0","ООО \"Рузский РО\"",{"$f":"VLOOKUP(A197:A550,'[1]Универсальная выгрузка'!$B$96:$T$22204,19,0)","v":6958.51}]
[50004367480,143056,"г.о. Одинцовский","Новоалександровка дер.","деревня","11","0","ООО \"Рузский РО\"",{"$f":"VLOOKUP(A198:A551,'[1]Универсальная выгрузка'!$B$96:$T$22204,19,0)","v":6958.51}]
[50004373130,143056,"г.о. Одинцовский","Новоалександровка дер.","деревня","3","0","ООО \"Рузский РО\"",{"$f":"VLOOKUP(A199:A552,'[1]Универсальная выгрузка'!$B$96:$T$22204,19,0)","v":6958.51}]
[50004376117,143056,"г.о. Одинцовский","Новоалександровка дер.","деревня","13","0","ООО \"Рузский РО\"",{"$f":"VLOOKUP(A200:A553,'[1]Универсальная выгрузка'!$B$96:$T$22204,19,0)","v":6958.51}]
[50004383435,143056,"г.о. Одинцовский","Новоалександровка дер.","деревня","1","0","ООО \"Рузский РО\"",{"$f":"VLOOKUP(A201:A554,'[1]Универсальная выгрузка'!$B$96:$T$22204,19,0)","v":6958.51}]
[50004387550,143056,"г.о. Одинцовский","Новоалександровка дер.","деревня","уч.7А","0","ООО \"Рузский РО\"",{"$f":"VLOOKUP(A202:A555,'[1]Универсальная выгрузка'!$B$96:$T$22204,19,0)","v":16330.45}]
[50004163119,143055,"г.о. Одинцовский","Носоново дер.","деревня","50","0","ООО \"Рузский РО\"",{"$f":"VLOOKUP(A203:A556,'[1]Универсальная выгрузка'!$B$96:$T$22204,19,0)","v":16057.98}]
[50004189607,143055,"г.о. Одинцовский","Носоново дер.","деревня","31","0","ООО \"Рузский РО\"",{"$f":"VLOOKUP(A204:A558,'[1]Универсальная выгрузка'!$B$96:$T$22204,19,0)","v":3831.76}]
[50004197037,143055,"г.о. Одинцовский","Носоново дер.","деревня","6","0","ООО \"Рузский РО\"",{"$f":"VLOOKUP(A205:A559,'[1]Универсальная выгрузка'!$B$96:$T$22204,19,0)","v":4619.1400000000003}]
[50004213610,143055,"г.о. Одинцовский","Носоново дер.","деревня","40","0","ООО \"Рузский РО\"",{"$f":"VLOOKUP(A206:A562,'[1]Универсальная выгрузка'!$B$96:$T$22204,19,0)","v":1942.62}]
[50004232549,143055,"г.о. Одинцовский","Носоново дер.","деревня","17","0","ООО \"Рузский РО\"",{"$f":"VLOOKUP(A207:A563,'[1]Универсальная выгрузка'!$B$96:$T$22204,19,0)","v":3985.36}]
[50004235194,143055,"г.о. Одинцовский","Носоново дер.","деревня","58А","0","ООО \"Рузский РО\"",{"$f":"VLOOKUP(A208:A565,'[1]Универсальная выгрузка'!$B$96:$T$22204,19,0)","v":5505.22}]
[50004239784,143055,"г.о. Одинцовский","Носоново дер.","деревня","56","35Б","ООО \"Рузский РО\"",{"$f":"VLOOKUP(A209:A566,'[1]Универсальная выгрузка'!$B$96:$T$22204,19,0)","v":6120.81}]
[50004277331,143055,"г.о. Одинцовский","Носоново дер.","деревня","12","0","ООО \"Рузский РО\"",{"$f":"VLOOKUP(A210:A568,'[1]Универсальная выгрузка'!$B$96:$T$22204,19,0)","v":2770.58}]
[50004286914,143055,"г.о. Одинцовский","Носоново дер.","деревня","49","0","ООО \"Рузский РО\"",{"$f":"VLOOKUP(A211:A570,'[1]Универсальная выгрузка'!$B$96:$T$22204,19,0)","v":1136.02}]
[50004294560,143055,"г.о. Одинцовский","Носоново дер.","деревня","14","0","ООО \"Рузский РО\"",{"$f":"VLOOKUP(A212:A572,'[1]Универсальная выгрузка'!$B$96:$T$22204,19,0)","v":3081.23}]
[50004306896,143055,"г.о. Одинцовский","Носоново дер.","деревня","3","0","ООО \"Рузский РО\"",{"$f":"VLOOKUP(A213:A575,'[1]Универсальная выгрузка'!$B$96:$T$22204,19,0)","v":5917.33}]
[50004321069,143055,"г.о. Одинцовский","Носоново дер.","деревня","15","0","ООО \"Рузский РО\"",{"$f":"VLOOKUP(A214:A579,'[1]Универсальная выгрузка'!$B$96:$T$22204,19,0)","v":4724.34}]
[50004331839,143055,"г.о. Одинцовский","Носоново дер.","деревня","28","0","ООО \"Рузский РО\"",{"$f":"VLOOKUP(A215:A584,'[1]Универсальная выгрузка'!$B$96:$T$22204,19,0)","v":4443.57}]
[50004365997,143055,"г.о. Одинцовский","Носоново дер.","деревня","16","0","ООО \"Рузский РО\"",{"$f":"VLOOKUP(A216:A592,'[1]Универсальная выгрузка'!$B$96:$T$22204,19,0)","v":6120.81}]
[50004375145,143055,"г.о. Одинцовский","Носоново дер.","деревня","уч.53","0","ООО \"Рузский РО\"",{"$f":"VLOOKUP(A217:A596,'[1]Универсальная выгрузка'!$B$96:$T$22204,19,0)","v":6007.58}]
[50004375811,143055,"г.о. Одинцовский","Носоново дер.","деревня","4","0","ООО \"Рузский РО\"",{"$f":"VLOOKUP(A218:A597,'[1]Универсальная выгрузка'!$B$96:$T$22204,19,0)","v":6120.81}]
[50004389035,143055,"г.о. Одинцовский","Носоново дер.","деревня","5","0","ООО \"Рузский РО\"",{"$f":"VLOOKUP(A219:A599,'[1]Универсальная выгрузка'!$B$96:$T$22204,19,0)","v":2058.73}]
[50004389187,143055,"г.о. Одинцовский","Носоново дер.","деревня","уч.7","0","ООО \"Рузский РО\"",{"$f":"VLOOKUP(A220:A600,'[1]Универсальная выгрузка'!$B$96:$T$22204,19,0)","v":3146.32}]
[50002224038,143065,"г.о. Одинцовский","Покровское дер.","деревня","1","уч.15","ООО \"Рузский РО\"",{"$f":"VLOOKUP(A221:A601,'[1]Универсальная выгрузка'!$B$96:$T$22204,19,0)","v":14233.94}]
[50002259697,143065,"г.о. Одинцовский","Покровское дер.","деревня","6","0","ООО \"Рузский РО\"",{"$f":"VLOOKUP(A222:A602,'[1]Универсальная выгрузка'!$B$96:$T$22204,19,0)","v":1330.41}]
[50002283668,143065,"г.о. Одинцовский","Покровское дер.","деревня","2","0","ООО \"Рузский РО\"",{"$f":"VLOOKUP(A223:A605,'[1]Универсальная выгрузка'!$B$96:$T$22204,19,0)","v":3386.93}]
[50002306234,143065,"г.о. Одинцовский","Покровское дер.","деревня","16","0","ООО \"Рузский РО\"",{"$f":"VLOOKUP(A224:A608,'[1]Универсальная выгрузка'!$B$96:$T$22204,19,0)","v":6120.81}]
[50002336863,143065,"г.о. Одинцовский","Покровское дер.","деревня","29","0","ООО \"Рузский РО\"",{"$f":"VLOOKUP(A225:A611,'[1]Универсальная выгрузка'!$B$96:$T$22204,19,0)","v":5986.74}]
[50002337730,143065,"г.о. Одинцовский","Покровское дер.","деревня","24","0","ООО \"Рузский РО\"",{"$f":"VLOOKUP(A226:A613,'[1]Универсальная выгрузка'!$B$96:$T$22204,19,0)","v":6120.81}]
[50002353749,143065,"г.о. Одинцовский","Покровское дер.","деревня","20","0","ООО \"Рузский РО\"",{"$f":"VLOOKUP(A227:A614,'[1]Универсальная выгрузка'!$B$96:$T$22204,19,0)","v":6120.81}]
[50002433120,143065,"г.о. Одинцовский","Покровское дер.","деревня","20","0","ООО \"Рузский РО\"",{"$f":"VLOOKUP(A228:A615,'[1]Универсальная выгрузка'!$B$96:$T$22204,19,0)","v":6120.81}]
[50002450460,143065,"г.о. Одинцовский","Покровское дер.","деревня","9","0","ООО \"Рузский РО\"",{"$f":"VLOOKUP(A229:A617,'[1]Универсальная выгрузка'!$B$96:$T$22204,19,0)","v":6120.81}]
[50002457917,143065,"г.о. Одинцовский","Покровское дер.","деревня","19а","0","ООО \"Рузский РО\"",{"$f":"VLOOKUP(A230:A618,'[1]Универсальная выгрузка'!$B$96:$T$22204,19,0)","v":6120.63}]
[50004163831,143057,"г.о. Одинцовский","Покровское дер.","Ершово с/п","17А","0","ООО \"Рузский РО\"",{"$f":"VLOOKUP(A231:A619,'[1]Универсальная выгрузка'!$B$96:$T$22204,19,0)","v":4775.22}]
[50004367779,143057,"г.о. Одинцовский","Покровское дер.","Ершово с/п","уч.103","0","ООО \"Рузский РО\"",{"$f":"VLOOKUP(A232:A620,'[1]Универсальная выгрузка'!$B$96:$T$22204,19,0)","v":2667.88}]
[50004183203,143057,"г.о. Одинцовский","Сергиево дер.","деревня","20","0","ООО \"Рузский РО\"",{"$f":"VLOOKUP(A233:A624,'[1]Универсальная выгрузка'!$B$96:$T$22204,19,0)","v":1472.78}]
[50004189981,143057,"г.о. Одинцовский","Сергиево дер.","деревня","26А","0","ООО \"Рузский РО\"",{"$f":"VLOOKUP(A234:A625,'[1]Универсальная выгрузка'!$B$96:$T$22204,19,0)","v":4166.7299999999996}]
[50004234458,143057,"г.о. Одинцовский","Сергиево дер.","деревня","2","0","ООО \"Рузский РО\"",{"$f":"VLOOKUP(A235:A630,'[1]Универсальная выгрузка'!$B$96:$T$22204,19,0)","v":6958.51}]
[50004247256,143057,"г.о. Одинцовский","Сергиево дер.","деревня","1","0","ООО \"Рузский РО\"",{"$f":"VLOOKUP(A236:A632,'[1]Универсальная выгрузка'!$B$96:$T$22204,19,0)","v":5123.21}]
[50004295210,143057,"г.о. Одинцовский","Сергиево дер.","деревня","11","0","ООО \"Рузский РО\"",{"$f":"VLOOKUP(A237:A637,'[1]Универсальная выгрузка'!$B$96:$T$22204,19,0)","v":2744.01}]
[50004312642,143057,"г.о. Одинцовский","Сергиево дер.","деревня","10 уч.","0","ООО \"Рузский РО\"",{"$f":"VLOOKUP(A238:A639,'[1]Универсальная выгрузка'!$B$96:$T$22204,19,0)","v":8027.07}]
[50004314544,143057,"г.о. Одинцовский","Сергиево дер.","деревня","26","0","ООО \"Рузский РО\"",{"$f":"VLOOKUP(A239:A640,'[1]Универсальная выгрузка'!$B$96:$T$22204,19,0)","v":6958.51}]
[50004327945,143057,"г.о. Одинцовский","Сергиево дер.","деревня","33","0","ООО \"Рузский РО\"",{"$f":"VLOOKUP(A240:A643,'[1]Универсальная выгрузка'!$B$96:$T$22204,19,0)","v":6968.73}]
[50004338094,143057,"г.о. Одинцовский","Сергиево дер.","деревня","8","0","ООО \"Рузский РО\"",{"$f":"VLOOKUP(A241:A647,'[1]Универсальная выгрузка'!$B$96:$T$22204,19,0)","v":6958.51}]
[50004361336,143057,"г.о. Одинцовский","Сергиево дер.","деревня","35","0","ООО \"Рузский РО\"",{"$f":"VLOOKUP(A242:A651,'[1]Универсальная выгрузка'!$B$96:$T$22204,19,0)","v":5612.96}]
[50004365891,143057,"г.о. Одинцовский","Сергиево дер.","ГП-1","уч.4","0","ООО \"Рузский РО\"",{"$f":"VLOOKUP(A243:A652,'[1]Универсальная выгрузка'!$B$96:$T$22204,19,0)","v":8027.07}]
[50004373941,143057,"г.о. Одинцовский","Сергиево дер.","деревня","105","уч.29В","ООО \"Рузский РО\"",{"$f":"VLOOKUP(A244:A653,'[1]Универсальная выгрузка'!$B$96:$T$22204,19,0)","v":6958.51}]
[50004163172,143057,"г.о. Одинцовский","Устье дер.","деревня","24","0","ООО \"Рузский РО\"",{"$f":"VLOOKUP(A245:A658,'[1]Универсальная выгрузка'!$B$96:$T$22204,19,0)","v":4777.4399999999996}]
[50004168364,143057,"г.о. Одинцовский","Устье дер.","деревня","47","0","ООО \"Рузский РО\"",{"$f":"VLOOKUP(A246:A659,'[1]Универсальная выгрузка'!$B$96:$T$22204,19,0)","v":3684.45}]
[50004175562,143057,"г.о. Одинцовский","Устье дер.","деревня","8","0","ООО \"Рузский РО\"",{"$f":"VLOOKUP(A247:A660,'[1]Универсальная выгрузка'!$B$96:$T$22204,19,0)","v":5847.11}]
[50004199130,143057,"г.о. Одинцовский","Устье дер.","ГП-1","уч.1","0","ООО \"Рузский РО\"",{"$f":"VLOOKUP(A248:A662,'[1]Универсальная выгрузка'!$B$96:$T$22204,19,0)","v":13786.17}]
[50004211860,143057,"г.о. Одинцовский","Устье дер.","ГП-1","уч.7","0","ООО \"Рузский РО\"",{"$f":"VLOOKUP(A249:A663,'[1]Универсальная выгрузка'!$B$96:$T$22204,19,0)","v":10613.47}]
[50004254510,143057,"г.о. Одинцовский","Устье дер.","деревня","19","0","ООО \"Рузский РО\"",{"$f":"VLOOKUP(A250:A669,'[1]Универсальная выгрузка'!$B$96:$T$22204,19,0)","v":6715.21}]
[50004278261,143057,"г.о. Одинцовский","Устье дер.","деревня","48","0","ООО \"Рузский РО\"",{"$f":"VLOOKUP(A251:A673,'[1]Универсальная выгрузка'!$B$96:$T$22204,19,0)","v":6713.66}]
[50004294094,143057,"г.о. Одинцовский","Устье дер.","деревня","31","0","ООО \"Рузский РО\"",{"$f":"VLOOKUP(A252:A675,'[1]Универсальная выгрузка'!$B$96:$T$22204,19,0)","v":6958.51}]
[50004302468,143057,"г.о. Одинцовский","Устье дер.","деревня","5","0","ООО \"Рузский РО\"",{"$f":"VLOOKUP(A253:A677,'[1]Универсальная выгрузка'!$B$96:$T$22204,19,0)","v":6391.34}]
[50004313300,143057,"г.о. Одинцовский","Устье дер.","деревня","27","0","ООО \"Рузский РО\"",{"$f":"VLOOKUP(A254:A680,'[1]Универсальная выгрузка'!$B$96:$T$22204,19,0)","v":2307.5300000000002}]
[50004338471,143057,"г.о. Одинцовский","Устье дер.","деревня","40","0","ООО \"Рузский РО\"",{"$f":"VLOOKUP(A255:A689,'[1]Универсальная выгрузка'!$B$96:$T$22204,19,0)","v":6958.51}]
[50004359048,143057,"г.о. Одинцовский","Устье дер.","деревня","41","0","ООО \"Рузский РО\"",{"$f":"VLOOKUP(A256:A692,'[1]Универсальная выгрузка'!$B$96:$T$22204,19,0)","v":5566.33}]
[50004380441,143057,"г.о. Одинцовский","Устье дер.","деревня","60","0","ООО \"Рузский РО\"",{"$f":"VLOOKUP(A257:A697,'[1]Универсальная выгрузка'!$B$96:$T$22204,19,0)","v":4408.47}]
[50004389701,143057,"г.о. Одинцовский","Устье дер.","деревня","12","0","ООО \"Рузский РО\"",{"$f":"VLOOKUP(A258:A698,'[1]Универсальная выгрузка'!$B$96:$T$22204,19,0)","v":6958.51}]
[50004163729,143057,"г.о. Одинцовский","Хотяжи дер.","деревня","3","0","ООО \"Рузский РО\"",{"$f":"VLOOKUP(A259:A699,'[1]Универсальная выгрузка'!$B$96:$T$22204,19,0)","v":2762.4}]
[50004168981,143057,"г.о. Одинцовский","Хотяжи дер.","деревня","19","0","ООО \"Рузский РО\"",{"$f":"VLOOKUP(A260:A700,'[1]Универсальная выгрузка'!$B$96:$T$22204,19,0)","v":6958.51}]
[50004182009,143057,"г.о. Одинцовский","Хотяжи дер.","деревня","16","0","ООО \"Рузский РО\"",{"$f":"VLOOKUP(A261:A701,'[1]Универсальная выгрузка'!$B$96:$T$22204,19,0)","v":6958.51}]
[50004246887,143057,"г.о. Одинцовский","Хотяжи дер.","деревня","9","0","ООО \"Рузский РО\"",{"$f":"VLOOKUP(A262:A702,'[1]Универсальная выгрузка'!$B$96:$T$22204,19,0)","v":6958.51}]
[50004253517,143057,"г.о. Одинцовский","Хотяжи дер.","деревня","30","0","ООО \"Рузский РО\"",{"$f":"VLOOKUP(A263:A703,'[1]Универсальная выгрузка'!$B$96:$T$22204,19,0)","v":6958.51}]
[50004270657,143057,"г.о. Одинцовский","Хотяжи дер.","деревня","3","0","ООО \"Рузский РО\"",{"$f":"VLOOKUP(A264:A704,'[1]Универсальная выгрузка'!$B$96:$T$22204,19,0)","v":6958.51}]
[50004277050,143057,"г.о. Одинцовский","Хотяжи дер.","деревня","13","0","ООО \"Рузский РО\"",{"$f":"VLOOKUP(A265:A705,'[1]Универсальная выгрузка'!$B$96:$T$22204,19,0)","v":6958.51}]
[50004278832,143057,"г.о. Одинцовский","Хотяжи дер.","деревня","11","0","ООО \"Рузский РО\"",{"$f":"VLOOKUP(A266:A706,'[1]Универсальная выгрузка'!$B$96:$T$22204,19,0)","v":6958.51}]
[50004279917,143057,"г.о. Одинцовский","Хотяжи дер.","деревня","уч.13","0","ООО \"Рузский РО\"",{"$f":"VLOOKUP(A267:A707,'[1]Универсальная выгрузка'!$B$96:$T$22204,19,0)","v":15335.31}]
[50004280750,143057,"г.о. Одинцовский","Хотяжи дер.","деревня","8","д.3","ООО \"Рузский РО\"",{"$f":"VLOOKUP(A268:A708,'[1]Универсальная выгрузка'!$B$96:$T$22204,19,0)","v":4419.93}]
[50004308558,143057,"г.о. Одинцовский","Хотяжи дер.","деревня","11","0","ООО \"Рузский РО\"",{"$f":"VLOOKUP(A269:A709,'[1]Универсальная выгрузка'!$B$96:$T$22204,19,0)","v":6958.51}]
[50004310388,143057,"г.о. Одинцовский","Хотяжи дер.","деревня","32","0","ООО \"Рузский РО\"",{"$f":"VLOOKUP(A270:A710,'[1]Универсальная выгрузка'!$B$96:$T$22204,19,0)","v":6958.51}]
[50004328547,143057,"г.о. Одинцовский","Хотяжи дер.","деревня","22","0","ООО \"Рузский РО\"",{"$f":"VLOOKUP(A271:A711,'[1]Универсальная выгрузка'!$B$96:$T$22204,19,0)","v":6958.51}]
[50004331130,143057,"г.о. Одинцовский","Хотяжи дер.","деревня","2","0","ООО \"Рузский РО\"",{"$f":"VLOOKUP(A272:A712,'[1]Универсальная выгрузка'!$B$96:$T$22204,19,0)","v":6958.51}]
[50004342333,143057,"г.о. Одинцовский","Хотяжи дер.","деревня","29","0","ООО \"Рузский РО\"",{"$f":"VLOOKUP(A273:A713,'[1]Универсальная выгрузка'!$B$96:$T$22204,19,0)","v":6958.51}]
[50004343312,143057,"г.о. Одинцовский","Хотяжи дер.","деревня","20","0","ООО \"Рузский РО\"",{"$f":"VLOOKUP(A274:A714,'[1]Универсальная выгрузка'!$B$96:$T$22204,19,0)","v":6958.51}]
[50004344669,143057,"г.о. Одинцовский","Хотяжи дер.","деревня","1","уч.24","ООО \"Рузский РО\"",{"$f":"VLOOKUP(A275:A715,'[1]Универсальная выгрузка'!$B$96:$T$22204,19,0)","v":6958.51}]
[50004371479,143057,"г.о. Одинцовский","Хотяжи дер.","ООО \"Ирбис\"","35","0","ООО \"Рузский РО\"",{"$f":"VLOOKUP(A276:A716,'[1]Универсальная выгрузка'!$B$96:$T$22204,19,0)","v":18276.39}]
[50004378107,143057,"г.о. Одинцовский","Хотяжи дер.","деревня","15","0","ООО \"Рузский РО\"",{"$f":"VLOOKUP(A277:A717,'[1]Универсальная выгрузка'!$B$96:$T$22204,19,0)","v":6958.51}]
[50004390545,143057,"г.о. Одинцовский","Хотяжи дер.","деревня","24","0","ООО \"Рузский РО\"",{"$f":"VLOOKUP(A278:A718,'[1]Универсальная выгрузка'!$B$96:$T$22204,19,0)","v":6958.51}]
[50008610463,143057,"г.о. Одинцовский","Хотяжи дер.","деревня","32","0","ООО \"Рузский РО\"",{"$f":"VLOOKUP(A279:A719,'[1]Универсальная выгрузка'!$B$96:$T$22204,19,0)","v":6958.51}]
[]
[]
[]
["За информацией по поводу получения квитанций от ПАО \"Мосэнергосбыт\" следует обращаться в офисы МосОблЕИРЦ  по тел. 8 (496) 245-15-99; 8 (499) 444-01-00 "]
["По вопросу проведения сверки по оплаченной  услуге \"за обращение с ТКО\"  по  тел. +7(495) 123-36-46 "]
["По вопросам проведения  корректировки площади домовладения обращаться в офис ООО \"Рузский региональный оператор\" по адресу: г. Одинцово, ул. Маршала Неделина, д. 6 А, бизнес-центр \"West Ist\" 3 этаж, каб. 314 "]